BEGIN:VCALENDAR
VERSION:2.0
PRODID:-//Terre de Peintres - ECPv6.15.20//NONSGML v1.0//EN
CALSCALE:GREGORIAN
METHOD:PUBLISH
X-WR-CALNAME:Terre de Peintres
X-ORIGINAL-URL:https://terredepeintres.fr
X-WR-CALDESC:Évènements pour Terre de Peintres
REFRESH-INTERVAL;VALUE=DURATION:PT1H
X-Robots-Tag:noindex
X-PUBLISHED-TTL:PT1H
BEGIN:VTIMEZONE
TZID:Europe/Paris
BEGIN:DAYLIGHT
TZOFFSETFROM:+0100
TZOFFSETTO:+0200
TZNAME:CEST
DTSTART:20240331T010000
END:DAYLIGHT
BEGIN:STANDARD
TZOFFSETFROM:+0200
TZOFFSETTO:+0100
TZNAME:CET
DTSTART:20241027T010000
END:STANDARD
BEGIN:DAYLIGHT
TZOFFSETFROM:+0100
TZOFFSETTO:+0200
TZNAME:CEST
DTSTART:20250330T010000
END:DAYLIGHT
BEGIN:STANDARD
TZOFFSETFROM:+0200
TZOFFSETTO:+0100
TZNAME:CET
DTSTART:20251026T010000
END:STANDARD
BEGIN:DAYLIGHT
TZOFFSETFROM:+0100
TZOFFSETTO:+0200
TZNAME:CEST
DTSTART:20260329T010000
END:DAYLIGHT
BEGIN:STANDARD
TZOFFSETFROM:+0200
TZOFFSETTO:+0100
TZNAME:CET
DTSTART:20261025T010000
END:STANDARD
BEGIN:DAYLIGHT
TZOFFSETFROM:+0100
TZOFFSETTO:+0200
TZNAME:CEST
DTSTART:20270328T010000
END:DAYLIGHT
BEGIN:STANDARD
TZOFFSETFROM:+0200
TZOFFSETTO:+0100
TZNAME:CET
DTSTART:20271031T010000
END:STANDARD
END:VTIMEZONE
BEGIN:VEVENT
DTSTART;TZID=Europe/Paris:20250901T080000
DTEND;TZID=Europe/Paris:20260630T170000
DTSTAMP:20260424T201352
CREATED:20250828T174321Z
LAST-MODIFIED:20260216T091641Z
UID:2190-1756713600-1782838800@terredepeintres.fr
SUMMARY:La rentrée 2025\, les dates des cours sont ici !
DESCRIPTION:Le programme de la rentrée est prêt\,PLANNING COURS 2025.2026 JUIN CORRIGE  Les cours d’aquarelle en visio reprennent  le 30 septembre 2025\, le cours d’aquarelle en atelier reprend le 1er octobre 2025\, les cours d’acrylique en atelier à Balma reprennent le 2 et 3 octobre 2025.\nVous pouvez confirmer votre inscription par mail ou pour tout renseignement\, contactez-nous à ppde(at)hotmail.fr \nSi vous souhaitez vous inscrire aux cours d’acrylique et réserver des dates c’est ICI\nSi vous voulez vous inscrire à la Visio et au cours d’aquarelle à l’atelier c’est par LA
URL:https://terredepeintres.fr/agenda/la-rentree-2025-cest-bientot/
ATTACH;FMTTYPE=image/jpeg:https://terredepeintres.fr/wp-content/uploads/2025/08/atelier.jpg
END:VEVENT
BEGIN:VEVENT
DTSTART;TZID=Europe/Paris:20260405T080000
DTEND;TZID=Europe/Paris:20260405T170000
DTSTAMP:20260424T201352
CREATED:20260405T161701Z
LAST-MODIFIED:20260405T161720Z
UID:2338-1775376000-1775408400@terredepeintres.fr
SUMMARY:Carnet de Voyage dans le désert des Bardenas du 11 au 18 octobre 2026/Complet
DESCRIPTION:On se croirait dans le Grand-ouest américain\, mais ces paysages sont bien ceux de Navarre. On se laissera séduire par ces formes minérales accentuées\, cette érosion visible et ces grands espaces désertiques à quelques kilomètres des Pyrénées\, coté espagnol. Après avoir passé 4 jours dans le désert\, nous passerons à Olite pour dessiner son magnifique chateau et  rejoindre Saint Jean Pied de Port en passant par le col mythique de Roncevaux.  \nDépart de Toulouse en covoiturage ou de Biarritz\, avec location de voiture  (pour ceux qui arrivent en train de Bordeaux ou Paris)  \nStage : 380 euros la semaine de 6 jours et 20 euros d’adhésion par virement ou chèque à l’ordre de Terre de Peintres.\n Hébergement à l’hotel dans la petite ville d’Arguedas en Espagne\, puis à Saint Jean pour 2 nuits. cet itinéraire permet de repartir en train par Biarritz.  \nArrivée le dimanche 11 octobre après 17h  \nDépart le dimanche 18 octobre après le petit déjeuner. \nLe stage se déroule du lundi 12 octobre à 9h au samedi 17 octobre à 18h.
URL:https://terredepeintres.fr/agenda/carnet-de-voyage-dans-le-desert-des-bardenas-du-11-au-18-octobre-2026/
ATTACH;FMTTYPE=image/jpeg:https://terredepeintres.fr/wp-content/uploads/2026/04/bardenas-2e-parking.jpg
END:VEVENT
BEGIN:VEVENT
DTSTART;TZID=Europe/Paris:20260405T080000
DTEND;TZID=Europe/Paris:20260405T170000
DTSTAMP:20260424T201352
CREATED:20260405T190257Z
LAST-MODIFIED:20260405T190257Z
UID:2366-1775376000-1775408400@terredepeintres.fr
SUMMARY:Ateliers d'initiation à l'aquarelle avec Julia Badaroux
DESCRIPTION:Venez découvrir les bases de l’aquarelle au cours de 3 séances thématiques \, de 14h30 à 17h30 \nle 8 mai: les techniques de base \nle 9 mai: La couleur \nle 10 mai : les contrastes
URL:https://terredepeintres.fr/agenda/ateliers-dinitiation-a-laquarelle-avec-julia-badaroux/
ATTACH;FMTTYPE=image/jpeg:https://terredepeintres.fr/wp-content/uploads/2026/04/affichette.jpeg
END:VEVENT
END:VCALENDAR