BEGIN:VCALENDAR
VERSION:2.0
PRODID:-//Terre de Peintres - ECPv6.15.20//NONSGML v1.0//EN
CALSCALE:GREGORIAN
METHOD:PUBLISH
X-ORIGINAL-URL:https://terredepeintres.fr
X-WR-CALDESC:Évènements pour Terre de Peintres
REFRESH-INTERVAL;VALUE=DURATION:PT1H
X-Robots-Tag:noindex
X-PUBLISHED-TTL:PT1H
BEGIN:VTIMEZONE
TZID:Europe/Paris
BEGIN:DAYLIGHT
TZOFFSETFROM:+0100
TZOFFSETTO:+0200
TZNAME:CEST
DTSTART:20240331T010000
END:DAYLIGHT
BEGIN:STANDARD
TZOFFSETFROM:+0200
TZOFFSETTO:+0100
TZNAME:CET
DTSTART:20241027T010000
END:STANDARD
BEGIN:DAYLIGHT
TZOFFSETFROM:+0100
TZOFFSETTO:+0200
TZNAME:CEST
DTSTART:20250330T010000
END:DAYLIGHT
BEGIN:STANDARD
TZOFFSETFROM:+0200
TZOFFSETTO:+0100
TZNAME:CET
DTSTART:20251026T010000
END:STANDARD
BEGIN:DAYLIGHT
TZOFFSETFROM:+0100
TZOFFSETTO:+0200
TZNAME:CEST
DTSTART:20260329T010000
END:DAYLIGHT
BEGIN:STANDARD
TZOFFSETFROM:+0200
TZOFFSETTO:+0100
TZNAME:CET
DTSTART:20261025T010000
END:STANDARD
BEGIN:DAYLIGHT
TZOFFSETFROM:+0100
TZOFFSETTO:+0200
TZNAME:CEST
DTSTART:20270328T010000
END:DAYLIGHT
BEGIN:STANDARD
TZOFFSETFROM:+0200
TZOFFSETTO:+0100
TZNAME:CET
DTSTART:20271031T010000
END:STANDARD
END:VTIMEZONE
BEGIN:VEVENT
DTSTART;TZID=Europe/Paris:20260412T143000
DTEND;TZID=Europe/Paris:20260412T173000
DTSTAMP:20260424T201410
CREATED:20260405T192240Z
LAST-MODIFIED:20260405T192240Z
UID:2375-1776004200-1776015000@terredepeintres.fr
SUMMARY:Atelier d'initiation à l'aquarelle avec Julia Badaroux\, aquarelliste le 26 avril de 14h30 à 17h30
DESCRIPTION:Dans le cycle des trois séances\, celle ci est consacrée aux contrastes dans la peinture. Découvrez comment mettre en valeur votre travail grâce aux contrastes \, qui n’auront plus de secrets pour vous ! Contactez Julia directement!
URL:https://terredepeintres.fr/agenda/atelier-dinitiation-a-laquarelle-avec-julia-badaroux-aquarelliste-le-26-avril-de-14h30-a-17h30/
ATTACH;FMTTYPE=image/jpeg:https://terredepeintres.fr/wp-content/uploads/2026/04/affichette-16.9.jpg
END:VEVENT
BEGIN:VEVENT
DTSTART;TZID=Europe/Paris:20260412T143000
DTEND;TZID=Europe/Paris:20260412T173000
DTSTAMP:20260424T201410
CREATED:20260405T191206Z
LAST-MODIFIED:20260405T191702Z
UID:2372-1776004200-1776015000@terredepeintres.fr
SUMMARY:Atelier d'initiation à l'aquarelle avec Julia Badaroux\, aquarelliste le 12 avril de 14h30 à 17h30
DESCRIPTION:Venez découvrir les bases de l’aquarelle au cours de 3 séances thématiques \nle 29 mars : les techniques de base \nle 12 avril : la couleur \nle 26 avril : les contrastes
URL:https://terredepeintres.fr/agenda/atelier-dinitiation-a-laquarelle-avec-julia-badaroux-aquarelliste-le-12-avril-de-14h30-a-17h30/
ATTACH;FMTTYPE=image/jpeg:https://terredepeintres.fr/wp-content/uploads/2026/04/affichette-16.9.jpg
END:VEVENT
BEGIN:VEVENT
DTSTART;TZID=Europe/Paris:20260405T080000
DTEND;TZID=Europe/Paris:20260405T170000
DTSTAMP:20260424T201410
CREATED:20260405T190257Z
LAST-MODIFIED:20260405T190257Z
UID:2366-1775376000-1775408400@terredepeintres.fr
SUMMARY:Ateliers d'initiation à l'aquarelle avec Julia Badaroux
DESCRIPTION:Venez découvrir les bases de l’aquarelle au cours de 3 séances thématiques \, de 14h30 à 17h30 \nle 8 mai: les techniques de base \nle 9 mai: La couleur \nle 10 mai : les contrastes
URL:https://terredepeintres.fr/agenda/ateliers-dinitiation-a-laquarelle-avec-julia-badaroux/
ATTACH;FMTTYPE=image/jpeg:https://terredepeintres.fr/wp-content/uploads/2026/04/affichette.jpeg
END:VEVENT
BEGIN:VEVENT
DTSTART;TZID=Europe/Paris:20260405T080000
DTEND;TZID=Europe/Paris:20260405T170000
DTSTAMP:20260424T201410
CREATED:20260405T161701Z
LAST-MODIFIED:20260405T161720Z
UID:2338-1775376000-1775408400@terredepeintres.fr
SUMMARY:Carnet de Voyage dans le désert des Bardenas du 11 au 18 octobre 2026/Complet
DESCRIPTION:On se croirait dans le Grand-ouest américain\, mais ces paysages sont bien ceux de Navarre. On se laissera séduire par ces formes minérales accentuées\, cette érosion visible et ces grands espaces désertiques à quelques kilomètres des Pyrénées\, coté espagnol. Après avoir passé 4 jours dans le désert\, nous passerons à Olite pour dessiner son magnifique chateau et  rejoindre Saint Jean Pied de Port en passant par le col mythique de Roncevaux.  \nDépart de Toulouse en covoiturage ou de Biarritz\, avec location de voiture  (pour ceux qui arrivent en train de Bordeaux ou Paris)  \nStage : 380 euros la semaine de 6 jours et 20 euros d’adhésion par virement ou chèque à l’ordre de Terre de Peintres.\n Hébergement à l’hotel dans la petite ville d’Arguedas en Espagne\, puis à Saint Jean pour 2 nuits. cet itinéraire permet de repartir en train par Biarritz.  \nArrivée le dimanche 11 octobre après 17h  \nDépart le dimanche 18 octobre après le petit déjeuner. \nLe stage se déroule du lundi 12 octobre à 9h au samedi 17 octobre à 18h.
URL:https://terredepeintres.fr/agenda/carnet-de-voyage-dans-le-desert-des-bardenas-du-11-au-18-octobre-2026/
ATTACH;FMTTYPE=image/jpeg:https://terredepeintres.fr/wp-content/uploads/2026/04/bardenas-2e-parking.jpg
END:VEVENT
BEGIN:VEVENT
DTSTART;TZID=Europe/Paris:20251122T170000
DTEND;TZID=Europe/Paris:20251122T190000
DTSTAMP:20260424T201410
CREATED:20250829T180712Z
LAST-MODIFIED:20251013T093937Z
UID:2232-1763830800-1763838000@terredepeintres.fr
SUMMARY:Atelier de découverte du carnet de voyage SAMEDI 22 NOVEMBRE
DESCRIPTION:Un atelier pour découvrir les techniques du carnet de voyage et faire un voyage extraordinaire dans son imaginaire\, ça vous dit? \nToutes les infos sont ici\, j’animerai cet atelier à la fabrique des Couleurs à Lavalette (31)\, chez Patricia.
URL:https://terredepeintres.fr/agenda/atelier-de-decouverte-du-carnet-de-voyage/
ATTACH;FMTTYPE=image/jpeg:https://terredepeintres.fr/wp-content/uploads/2025/08/CAP-VERT-COLLAGE-TAMPON-AQUARELLE.jpg
END:VEVENT
BEGIN:VEVENT
DTSTART;TZID=Europe/Paris:20251113T093000
DTEND;TZID=Europe/Paris:20251114T170000
DTSTAMP:20260424T201410
CREATED:20251013T101203Z
LAST-MODIFIED:20251013T101355Z
UID:2282-1763026200-1763139600@terredepeintres.fr
SUMMARY:Cours de peinture acrylique à Cahors et mini-stage les 13 et 14 novembre
DESCRIPTION:Mini-stages de 2 jours\, pratiquez la peinture en atelier à Valroufié (46)\, 10 km de Cahors.\nJeudi de 9h30 à 18h et vendredi de 9h à 17h\nChacun peut choisir son sujet \, selon son niveau et ses envies. Vous serez accompagné dans votre projet et votre évolution avec attention. Que votre projet soit complexe ou fantaisie\, vous obtiendrez toutes les techniques et les astuces de peintres pour concrétiser vos envies. Vous apprendrez à manier les couleurs\, les textures\, les valeurs\, le dessin\, la composition\, pour créer un oeuvre qui vous ressemble.\n 
URL:https://terredepeintres.fr/agenda/cours-de-peinture-acrylique-a-cahors-et-mini-stage/
END:VEVENT
BEGIN:VEVENT
DTSTART;TZID=Europe/Paris:20250930T140000
DTEND;TZID=Europe/Paris:20250930T170000
DTSTAMP:20260424T201410
CREATED:20250829T120046Z
LAST-MODIFIED:20250909T144613Z
UID:2211-1759240800-1759251600@terredepeintres.fr
SUMMARY:Cours en visio de 14h à 17h\, demandez le sujet !
DESCRIPTION:Devant votre ordinateur\, vous êtes guidés par Elisabeth à travers les obstacles et les pièges de l’aquarelle. Premier cours de l’année\, demandez le sujet par mail\, à chaque séance un nouveau sujet\, motifs très variés\, choisis en fonction d’une pédagogie active et progressive. Contactez-nous à ppde(at)hotmail.fr \nToutes les dates et le tableau d’inscription sont ICI
URL:https://terredepeintres.fr/agenda/cours-en-visio-de-14h-a-17h-demandez-le-sujet/
ATTACH;FMTTYPE=image/jpeg:https://terredepeintres.fr/wp-content/uploads/2025/08/AQUA-COQUELICOTS.jpg
END:VEVENT
BEGIN:VEVENT
DTSTART;TZID=Europe/Paris:20250914T080000
DTEND;TZID=Europe/Paris:20250930T170000
DTSTAMP:20260424T201410
CREATED:20250828T194054Z
LAST-MODIFIED:20250909T150203Z
UID:2202-1757836800-1759251600@terredepeintres.fr
SUMMARY:Nouveau programme : cours d'aquarelle en visio
DESCRIPTION:A partir du 30 septembre\, le mardi après midi\, deux fois par mois\, laissez-vous guider par Elisabeth dans les méandres secrets de l’aquarelle. La régularité et la pratique sont vos meilleures alliées ! Ou donnez-vous le temps et visionnez les enregistrements à votre rythme en téléchargeant la video enregistrée du cours. \nRecevez par mail un dessin à réaliser chez vous\, une photo\, et réalisons ensemble une aquarelle. Vous saurez tout sur la composition\, les choix esthétiques ou techniques à faire pour ne pas se tromper\, savoir repérer les pièges et les étapes à suivre pour gagner en autonomie. Toutes les dates ICI\n \nPour vous inscrire directement \, cliquez ICI
URL:https://terredepeintres.fr/agenda/nouveau-programme-cours-daquarelle-en-visio/
ATTACH;FMTTYPE=image/jpeg:https://terredepeintres.fr/wp-content/uploads/2025/08/CABANAE-ROUGE-AQUA.jpg
END:VEVENT
BEGIN:VEVENT
DTSTART;VALUE=DATE:20250913
DTEND;VALUE=DATE:20250921
DTSTAMP:20260424T201410
CREATED:20250530T165807Z
LAST-MODIFIED:20250909T181239Z
UID:2033-1757721600-1758412799@terredepeintres.fr
SUMMARY:Stage | Carnet de Voyage à Rocamadour | 13-20 Septembre/COMPLET
DESCRIPTION:De réputation mondiale\, cette petite cité accrochée aux falaises au-dessus de l’Alzou se dresse fièrement vers le ciel. Son caractère médiéval et sacré en fait un haut lieu de pèlerinage et\, pour nous artistes\, un sujet d’inspiration exceptionnel qui mérite plusieurs journées d’exploration picturale. Les environs regorgent de merveilles à portée de pinceau : le mystérieux gouffre de Padirac\, les villages de charme d’Autoire et Martel. La visite du gouffre de Padirac nous offrira l’occasion d’exercer notre mémoire visuelle – le dessin n’étant pas possible pendant la visite. Nous enrichirons ensuite nos carnets grâce à des techniques créatives : papiers colorés\, collages et restitution d’après nos souvenirs. \n\nInformation pratiques:\n\nTarif : 370 € (6 jours) + 20 € d’adhésion obligatoire à l’association\nPaiement : Par virement ou chèque à l’ordre de « Terre de Peintres\nLe stage est du dimanche 14 à 9h au vendredi 19 à 18h.\nToutes les conditions détaillées sont disponibles sur la fiche d’inscription\nDéplacements en voiture particulière\, frais partagés entre les participants.\n\nHébergement\n\nLieu : Gîte à Lacave\, près de Rocamadour\nArrivée : Samedi 13 septembre pour le dîner\nDépart : Samedi 20 septembre au matin\nStage : Du dimanche 14 à 9h au vendredi 19 à 18h\n\nOptions disponibles (merci de préciser votre préférence) : \n\nChambre single : 230 €/personne (2 disponibles)\nChambre double : 160 €/personne (2 disponibles)\nChambre triple : 140 €/personne (1 disponible)\n\nRestauration\n220 € par semaine (règlement en espèces) \n\nDîners pris en commun dans une ambiance conviviale\nPique-niques préparés pour les sorties du midi\nPetit-déjeuner continental\n\nFormulaire d’inscription à télécharger>>
URL:https://terredepeintres.fr/agenda/stage-a-rocamadour/
CATEGORIES:Ateliers en balade
ATTACH;FMTTYPE=image/jpeg:https://terredepeintres.fr/wp-content/uploads/2025/05/summer-908321_1280.jpg
END:VEVENT
BEGIN:VEVENT
DTSTART;VALUE=DATE:20250830
DTEND;VALUE=DATE:20250907
DTSTAMP:20260424T201410
CREATED:20250530T164618Z
LAST-MODIFIED:20250828T174954Z
UID:2024-1756512000-1757203199@terredepeintres.fr
SUMMARY:Stage |  Le Massif central\, Saint Nectaire \, Murol et le mont-Dore | 30 Aout - 6 Septembre/COMPLET
DESCRIPTION: Des pâturages verdoyants aux caves d’affinage\, nous suivrons les étapes de fabrication du Saint-Nectaire\, l’un des plus célèbres fromages français. Une approche authentique qui enrichira votre carnet de voyage ! \nInformations pratiques:\nDurée : 6 jours de stage intensif\nTarif : 370 € + 20 € d’adhésion \nHébergement et Restauration\n\nHébergement en gîte : 180 à 250 € par personne (frais partagés)*\nRestauration : 220 € par semaine (en espèces)\n\nRepas pris en commun dans une ambiance conviviale\nPique-niques préparés pour les sorties du midi\n\n\n\n*Les modalités d’hébergement sont en cours de finalisation selon le nombre de participants. \nRéservation\nPour garantir votre place et nous permettre d’organiser au mieux l’hébergement\, vous pouvez dès à présent vous inscrire en utilisant la fiche d’inscription disponible: \nFormulaire d’inscription à télécharger>>
URL:https://terredepeintres.fr/agenda/stage-carnet-de-voyage-le-massif-central-de-saint-nectaire-a-issoire/
CATEGORIES:Stages
ATTACH;FMTTYPE=image/jpeg:https://terredepeintres.fr/wp-content/uploads/2025/05/holiday-3726404_1280.jpg
END:VEVENT
BEGIN:VEVENT
DTSTART;TZID=Europe/Paris:20250628T210000
DTEND;TZID=Europe/Paris:20250628T223000
DTSTAMP:20260424T201410
CREATED:20250617T083840Z
LAST-MODIFIED:20250617T084213Z
UID:2181-1751144400-1751149800@terredepeintres.fr
SUMMARY:Echapées Belles samedi 28 juin sur France 5
DESCRIPTION:Quelques minutes de reportage…\n  \n \nhttps://terredepeintres.fr/wp-content/uploads/2025/06/VID-20250611-WA0007.mp4\nQue se passe-t-il au bord du Canal du Midi? \nVous le saurez en regardant le magazine "Echappées Belles" consacré au Canal du Midi ce samedi 28 juin 2025 à 21h sur France 5.\nNous étions aussi au bord du canal avec une petite équipe de tournage \, un moment sympathique et tranquille pour notre activité préférée:\npeindre dans la nature\, au bord de l'eau et oublier le reste!
URL:https://terredepeintres.fr/agenda/echapees-belles-samedi-28-juin-sur-france-5/
CATEGORIES:Ateliers en balade
END:VEVENT
BEGIN:VEVENT
DTSTART;VALUE=DATE:20250626
DTEND;VALUE=DATE:20250628
DTSTAMP:20260424T201410
CREATED:20250617T082111Z
LAST-MODIFIED:20250617T082111Z
UID:2178-1750896000-1751068799@terredepeintres.fr
SUMMARY:Mini stage de 2 jours à Cahors les 26 et 27 juin à la salle municipale de Valroufié
DESCRIPTION:2 jours d’atelier pour concrétiser votre projet\nDans la belle salle lumineuse de Valroufié\, 2 journée consacrées à votre projet en peinture acrylique. \nOn apporte son matériel et ses idées\, pour un accompagnement discret de votre projet
URL:https://terredepeintres.fr/agenda/mini-stage-de-2-jours-a-cahors-les-26-et-27-juin-a-la-salle-municipale-de-valroufie/
CATEGORIES:Stages
END:VEVENT
BEGIN:VEVENT
DTSTART;VALUE=DATE:20250622
DTEND;VALUE=DATE:20250630
DTSTAMP:20260424T201410
CREATED:20250530T150118Z
LAST-MODIFIED:20250617T080921Z
UID:1977-1750550400-1751241599@terredepeintres.fr
SUMMARY:Reporté à une autre date : Stage | Annecy et Le Grand-Bornand | 22-29 Juin
DESCRIPTION:Un séjour artistique de 7 jours entre lac et montagne \nDécouvrez les merveilles de la Haute-Savoie le pinceau à la main ! Ce stage exceptionnel vous invite à poser votre regard d’artiste sur deux univers complémentaires. \n2 jours à Annecy : Explorez la « Perle des Alpes » et ses canaux pittoresques\, puis laissez-vous charmer par l’atmosphère unique du Jardin des Secrets\, lieu d’inspiration idéal pour vos premiers croquis. \n5 jours à Manigod : Séjournez en demi-pension dans un hôtel confortable au cœur des Aravis. Partez à la découverte des paysages alpins lors de balades accessibles à tous\, sur des chemins carrossables et sans difficulté. Ces escapades vous mèneront au plus près des sommets pour dessiner dans un cadre montagnard authentique. \nBonus Bonus naturel : avec un peu de chance et une météo clémente\, le majestueux Mont Blanc se dévoilera à vos pinceaux! \nInformations pratiques:\nPrix du stage: 370 euros Adhésion  obligatoire à l’association: 20 euros \nHébergement à votre charge: \n\n 22\, 23 \, 24 Juin: Hôtel Accor\, environ 210 euros chambre double\n25 au 29 Juin: Hôtel la vieille Ferme à Manigod\, hôtel dans un chalet très charmant. Chambre seule en demi pension : 135 euros par jour\, compter 4 jours chambre double en demi pension 95 euros par jour\, compter 4 jours;\n\nFormulaire d’inscription à télécharger>>
URL:https://terredepeintres.fr/agenda/stage-annecy-et-le-grand-bornand/
CATEGORIES:Stages
ATTACH;FMTTYPE=image/jpeg:https://terredepeintres.fr/wp-content/uploads/2025/05/lake-annecy-2729935_1280.jpg
END:VEVENT
BEGIN:VEVENT
DTSTART;VALUE=DATE:20250619
DTEND;VALUE=DATE:20250620
DTSTAMP:20260424T201410
CREATED:20250617T080600Z
LAST-MODIFIED:20250617T080600Z
UID:2169-1750291200-1750377599@terredepeintres.fr
SUMMARY:Visite au Musée Ingres Bourdelle de Montauban
DESCRIPTION:On aime bien se réunir en fin d’année pour fêter l’été et se dire au revoir avant les vacances. \nCe jeudi 19 juin\, pic-nic à Montauban\, sur les berges du Tarn\, puis visite libre du Musée Ingres Bourdelle (MIB) et tour du centre-ville après le musée. 
URL:https://terredepeintres.fr/agenda/visite-au-musee-ingres-bourdelle-de-montauban/
LOCATION:Musée Ingres Bourdelle\, 19 rue de l'hotel de ville\, Montauban\, 82000
ORGANIZER;CN="terre de Peintres":MAILTO:ppde(at)hotmail.fr
END:VEVENT
END:VCALENDAR