BEGIN:VCALENDAR
VERSION:2.0
PRODID:-//Terre de Peintres - ECPv6.15.20//NONSGML v1.0//EN
CALSCALE:GREGORIAN
METHOD:PUBLISH
X-ORIGINAL-URL:https://terredepeintres.fr
X-WR-CALDESC:Évènements pour Terre de Peintres
REFRESH-INTERVAL;VALUE=DURATION:PT1H
X-Robots-Tag:noindex
X-PUBLISHED-TTL:PT1H
BEGIN:VTIMEZONE
TZID:Europe/Paris
BEGIN:DAYLIGHT
TZOFFSETFROM:+0100
TZOFFSETTO:+0200
TZNAME:CEST
DTSTART:20240331T010000
END:DAYLIGHT
BEGIN:STANDARD
TZOFFSETFROM:+0200
TZOFFSETTO:+0100
TZNAME:CET
DTSTART:20241027T010000
END:STANDARD
BEGIN:DAYLIGHT
TZOFFSETFROM:+0100
TZOFFSETTO:+0200
TZNAME:CEST
DTSTART:20250330T010000
END:DAYLIGHT
BEGIN:STANDARD
TZOFFSETFROM:+0200
TZOFFSETTO:+0100
TZNAME:CET
DTSTART:20251026T010000
END:STANDARD
BEGIN:DAYLIGHT
TZOFFSETFROM:+0100
TZOFFSETTO:+0200
TZNAME:CEST
DTSTART:20260329T010000
END:DAYLIGHT
BEGIN:STANDARD
TZOFFSETFROM:+0200
TZOFFSETTO:+0100
TZNAME:CET
DTSTART:20261025T010000
END:STANDARD
BEGIN:DAYLIGHT
TZOFFSETFROM:+0100
TZOFFSETTO:+0200
TZNAME:CEST
DTSTART:20270328T010000
END:DAYLIGHT
BEGIN:STANDARD
TZOFFSETFROM:+0200
TZOFFSETTO:+0100
TZNAME:CET
DTSTART:20271031T010000
END:STANDARD
END:VTIMEZONE
BEGIN:VEVENT
DTSTART;TZID=Europe/Paris:20250901T080000
DTEND;TZID=Europe/Paris:20260630T170000
DTSTAMP:20260424T183336
CREATED:20250828T174321Z
LAST-MODIFIED:20260216T091641Z
UID:2190-1756713600-1782838800@terredepeintres.fr
SUMMARY:La rentrée 2025\, les dates des cours sont ici !
DESCRIPTION:Le programme de la rentrée est prêt\,PLANNING COURS 2025.2026 JUIN CORRIGE  Les cours d’aquarelle en visio reprennent  le 30 septembre 2025\, le cours d’aquarelle en atelier reprend le 1er octobre 2025\, les cours d’acrylique en atelier à Balma reprennent le 2 et 3 octobre 2025.\nVous pouvez confirmer votre inscription par mail ou pour tout renseignement\, contactez-nous à ppde(at)hotmail.fr \nSi vous souhaitez vous inscrire aux cours d’acrylique et réserver des dates c’est ICI\nSi vous voulez vous inscrire à la Visio et au cours d’aquarelle à l’atelier c’est par LA
URL:https://terredepeintres.fr/agenda/la-rentree-2025-cest-bientot/
ATTACH;FMTTYPE=image/jpeg:https://terredepeintres.fr/wp-content/uploads/2025/08/atelier.jpg
END:VEVENT
BEGIN:VEVENT
DTSTART;TZID=Europe/Paris:20260418T170000
DTEND;TZID=Europe/Paris:20260425T100000
DTSTAMP:20260424T183336
CREATED:20260405T152141Z
LAST-MODIFIED:20260405T154641Z
UID:2299-1776531600-1777111200@terredepeintres.fr
SUMMARY:Carnet de Voyage à Saint-Guilhem le Désert et les Gorges de l'Hérault du 18 au 25 avril\, il reste une place\, rejoignez-nous !
DESCRIPTION:La saison des stages Carnet de Voyage commence ! il reste une place pour ce stage à Saint Guilhem\, on vous attend! \nUn village\, presque une petite cité blottie dans les gorges de l’Hérault\, médiévale\, baignée de Sainteté\, grâce à une abbaye classée patrimoine mondial de l’Unesco\, un cloître (dont les pierres d’origine se trouvent au musée des Cloîtres à New York !)\, de nombreux et saints vestiges du temps passé. Si vous aimez les vieilles pierres\, les sentiers bucoliques qui longent l’eau\, l’univers minéral et puissant des falaises de roche\, une ambiance médiévale et accueillante\, vous aimerez Saint-Guilhem et l’histoire de sa fondation. On trouve pas loin la grotte de Clamouse\, un magnifique pont du Diable dans un méandre de l’Hérault\, et le chemin de Saint-Jacques est partout !\nVillages de potiers\, collines couvertes de vignes\, formations géologiques curieuses\, cirques\, grands platanes et Manufacture Royale emplie de charme de Villeneuvette\, serviront de sujets pittoresques à immortaliser dans votre carnet de l’Hérault. \nLes stages « Carnet de Voyage » sont intensifs\, nous dessinons et peignons toute la journée. Le temps de peinture est parfois entrecoupé d’une visite dans un musée\, un jardin\, mais là encore\, nous continuons à dessiner lorsqu’on nous y autorise… Je vous enseigne les règles de la perspective\, les rudiments dont vous aurez besoin pour poser un dessin stable et bien ancré. À cet effet\, nous utilisons un outil que je vous ferai fabriquer le 1er jour et qui permet de « faciliter » l’étape du dessin. Je vous montre comment repérer et peindre les ombres qui mettent en valeur votre dessin. Chaque couleur a une valeur de référence\, rapportée à une échelle de gris allant du noir au blanc. C’est ainsi que vous utiliserez les couleurs\, en fonction de leur valeur. Le dessin\, la perspective\, la couleur et toujours des propositions créatives et plastiques qui vous permettent de créer votre carnet\, selon votre propre écriture. L’aquarelle fait appel à de nombreux états émotionnels : écoute\, patience\, observation\, ténacité\, (patience)\, gratitude\, joie\, audace\, patience (et patience).. pas étonnant que l’on soit à la fois fatigué et ému en fin de journée\, l’expérience vécue laisse toujours une trace : satisfaction\, insatisfaction\, détente\, tension intérieure\, en d’autres mots quelque chose d’addictif\, de gratifiant\, déstabilisant\, étonnant\, c’est toute notre volonté qui s’engage dans ce travail… le carnet devient votre espace d’expression\, votre carnet d’émotions… \nPour chaque destination\, il y a un thème de stage\, mer\, montagne\, ville\, campagne\, île\,… le programme est varié et équilibré : j’ai fait un repérage de tous les endroits que je vous propose de visiter et les sujets s’enchaînent selon un rythme dépendant du groupe. Parfois on ralentit un peu le rythme\, parfois on l’accélère… Les sujets alternent entre les cadrages\, les points de vue et vous permettent de dépasser vos limites\, avec les bons conseils au bon moment ! \n \nArrivée sur place après 17h le samedi 18 avril \nDébut du stage le dimanche 19 avril à 9h\, \nFin du stage le vendredi 24 avril à 18h \nDépart le samedi 25 avril après le petit déjeuner. \nHébergement en gîte\, il reste une place dans une chambre triple à 170 euros la semaine. \nTarif du stage : adhésion à l’association 20€\, stage: 380 euros  \nrepas : 230 euros en pension complète.
URL:https://terredepeintres.fr/agenda/la-saison-des-stage-commence/
LOCATION:Aniane
CATEGORIES:Stages
ATTACH;FMTTYPE=image/jpeg:https://terredepeintres.fr/wp-content/uploads/2026/04/SAINT-GUILHEM-L-ABBAYE.jpg
END:VEVENT
BEGIN:VEVENT
DTSTART;TZID=Europe/Paris:20260425T150000
DTEND;TZID=Europe/Paris:20260425T180000
DTSTAMP:20260424T183336
CREATED:20260405T184519Z
LAST-MODIFIED:20260405T184537Z
UID:2358-1777129200-1777140000@terredepeintres.fr
SUMMARY:Atelier marqueterie de paille le 25 avril 2026
DESCRIPTION:Une fois par mois découvrez en compagnie de  Jessica Lhez  cet art subtil et délicat de la marqueterie de paille. Vous commencerez par tout connaître sur le matériau\, les outils\, où se procurer des pailles teintées\, puis vous passerez à la réalisation de deux sous verres selon vos propres choix colorés. Tout le matériel est fourni\, nous vous attendons!
URL:https://terredepeintres.fr/agenda/atelier-marqueterie-de-paille-le-25-avril-2026/
ATTACH;FMTTYPE=image/jpeg:https://terredepeintres.fr/wp-content/uploads/2026/04/atelier-paille.jpg
END:VEVENT
BEGIN:VEVENT
DTSTART;TZID=Europe/Paris:20260508T143000
DTEND;TZID=Europe/Paris:20260510T173000
DTSTAMP:20260424T183336
CREATED:20260405T190733Z
LAST-MODIFIED:20260405T190733Z
UID:2370-1778250600-1778434200@terredepeintres.fr
SUMMARY:Ateliers d'initiation à l'aquarelle avec Julia Badaroux\, 8\, 9 et 10 Mai de 14h30 à 17h30
DESCRIPTION:Venez découvrir les base de l’aquarelle au cours de 3 séances thématiques : les techniques de base\, la couleur\, les contrastes. \n100 euros les 3 séances ou 40 euros la séance de 14h30 à 17h30
URL:https://terredepeintres.fr/agenda/ateliers-dinitiation-a-laquarelle-avec-julia-badaroux-8-9-et-10-mai-de-14h30-a-17h30/
ATTACH;FMTTYPE=image/jpeg:https://terredepeintres.fr/wp-content/uploads/2026/04/affichette.jpeg
END:VEVENT
BEGIN:VEVENT
DTSTART;TZID=Europe/Paris:20260524T170000
DTEND;TZID=Europe/Paris:20260531T100000
DTSTAMP:20260424T183336
CREATED:20260405T153119Z
LAST-MODIFIED:20260405T154713Z
UID:2310-1779642000-1780221600@terredepeintres.fr
SUMMARY:Carnet de Voyage à Avignon du Dimanche 24 au Dimanche 31 Mai\, il reste une place!
DESCRIPTION:Célèbre pour les remparts\, le pont et le festival\, Avignon offre de belles perspectives sur le Rhône et l’histoire: la papauté a laissé de monumentales traces\, les musées sont riches et l’architecture imposante. Nous verrons comment capter l’ambiance de la Provence à travers ses marchés\, ses monuments\, ses ombrages. Capter la lumière n’est-il pas le Grââl du peintre ? Ici on ne peint pas avec ses tubes\, on peint avec l’ombre et la lumière… \nHébergement à l’étude \nRepas: Les repas du soir sont pris ensemble\, nous avons un pique-nique à midi\, petit déjeuner continental\, soit 230 euros par semaine. Déplacements en voiture particulière\, frais partagés.  \nPrix du stage 380 euros et 20 euros d’adhésion à l’ordre de TERRE DE PEINTRES  \nStage de 6 jours du L 25 à 9h au S 30 mai à 18 h \nArrivée le 24 mai après 17h \nDépart le D 31 mai après le petit déjeûner. 
URL:https://terredepeintres.fr/agenda/stage-a-avignon-du-dimanche-24-au-dimanche-31-mai-il-reste-une-place/
LOCATION:Avignon
ATTACH;FMTTYPE=image/png:https://terredepeintres.fr/wp-content/uploads/2026/04/image-182.png
END:VEVENT
BEGIN:VEVENT
DTSTART;TZID=Europe/Paris:20260530T150000
DTEND;TZID=Europe/Paris:20260530T180000
DTSTAMP:20260424T183336
CREATED:20260405T184802Z
LAST-MODIFIED:20260405T185319Z
UID:2361-1780153200-1780164000@terredepeintres.fr
SUMMARY:atelier marqueterie de paille avec Jessica LHEZ
DESCRIPTION:
URL:https://terredepeintres.fr/agenda/atelier-marqueterie-de-paille-avec-jessica-lhez/
ATTACH;FMTTYPE=image/jpeg:https://terredepeintres.fr/wp-content/uploads/2026/04/atelier-paille.jpg
END:VEVENT
BEGIN:VEVENT
DTSTART;TZID=Europe/Paris:20260621T170000
DTEND;TZID=Europe/Paris:20260628T100000
DTSTAMP:20260424T183336
CREATED:20260405T154032Z
LAST-MODIFIED:20260405T154032Z
UID:2317-1782061200-1782640800@terredepeintres.fr
SUMMARY:Carnet de Voyage à l'île d'Oléron du 21 au 28 juin 2026/Complet
DESCRIPTION:Si proche de la côte et si déjà éloignée de tout\, un cordon de plage à l’infini où l’ont peut marcher\, peindre\, se baigner\, prendre le soleil\, nager\, créer face à la mer.  \nToutes les ambiances sont sur l’île : la calme\, la raffinée\, la travailleuse\, l’oisive\, l’industrieuse\, l’artistique\, l’excentrique parfois! On ne se lasse pas des bateaux\, des ports\, des reflets dans l’eau\, des marais salants\, de la marée qui perturbe le temps\, du ciel et du vent qu’on a envie de peindre. On pourra faire une journée « carnet » à vélo si vous avez envie\, tout est possible !! Ce sera le temps des fleurs et du soleil\, juste avant l’été nous ferons un crochet par Brouage est ses marais avant de nous perdre dans l’île. . \nStage 380 euros \nadhésion 20 euros \nHébergement en plusieurs gîtes au village de saint Georges  \nRepas 220 euros
URL:https://terredepeintres.fr/agenda/carnet-de-voyage-a-lile-doleron-du-21-au-28-juin-2026-complet/
ATTACH;FMTTYPE=image/jpeg:https://terredepeintres.fr/wp-content/uploads/2026/04/WhatsApp-Image-2025-12-16-a-16.28.37_d69f0de6.jpg
END:VEVENT
BEGIN:VEVENT
DTSTART;TZID=Europe/Paris:20260627T150000
DTEND;TZID=Europe/Paris:20260627T180000
DTSTAMP:20260424T183336
CREATED:20260405T185211Z
LAST-MODIFIED:20260405T185343Z
UID:2363-1782572400-1782583200@terredepeintres.fr
SUMMARY:Atelier de marqueterie de paille le 27 juin 2026
DESCRIPTION:
URL:https://terredepeintres.fr/agenda/atelier-de-marqueterie-de-paille-le-27-juin-2026/
ATTACH;FMTTYPE=image/jpeg:https://terredepeintres.fr/wp-content/uploads/2026/04/atelier-paille.jpg
END:VEVENT
BEGIN:VEVENT
DTSTART;TZID=Europe/Paris:20260913T170000
DTEND;TZID=Europe/Paris:20260920T100000
DTSTAMP:20260424T183336
CREATED:20260405T160914Z
LAST-MODIFIED:20260405T160914Z
UID:2330-1789318800-1789898400@terredepeintres.fr
SUMMARY:Carnet de Voyage en Dordogne \, vallée de la Vézère et de la Dordogne du 13 au 20 septembre 2026/Complet
DESCRIPTION:D’abord Sarlat et ses allures de vieille dame endormie\, poussez la porte d’une demeure et retrouvez les escaliers à vis\, les plafonds en bois et les cheminées monumentales. La maison d’Estienne de la Boétie\, les jolies places animées ou calmes\, j’ai préparé un circuit dans la ville qui vous plongera  au coeur de l’époque médiévale! Châteaux en ruines\, village de cazelles\, habitats troglodytiques\, plusieurs époques se superposent dans ces deux vallées. . Il est encore temps de se baigner dans la Dordogne et  peut-être de peindre des reflets dans l’eau.  \nHébergement en gîte à l’étude \nArrivée au gîte le D13 septembre après 17h \nStage du lundi 14 septembre à 9h au samedi 19 septembre 18h \nDépart le dimanche 20 septembre après le petit déjeûner. \nstages / 380 euros la semaine de 6 jours et 20 euros d’adhésion
URL:https://terredepeintres.fr/agenda/carnet-de-voyage-en-dordogne-vallee-de-la-vezere-et-de-la-dordogne-du-13-au-20-septembre-2026-complet/
LOCATION:SARLAT
ATTACH;FMTTYPE=image/jpeg:https://terredepeintres.fr/wp-content/uploads/2026/04/HAMEAU-DORDOGNE.jpg
END:VEVENT
BEGIN:VEVENT
DTSTART;TZID=Europe/Paris:20261011T170000
DTEND;TZID=Europe/Paris:20261018T100000
DTSTAMP:20260424T183336
CREATED:20260405T175544Z
LAST-MODIFIED:20260405T175544Z
UID:2344-1791738000-1792317600@terredepeintres.fr
SUMMARY:Carnet de Voyage dans le Désert des Bardenas en Navarre du 11 au 18 octobre 2026/Complet
DESCRIPTION:On se croirait dans le Grand-ouest américain\, mais ces paysages sont bien ceux de Navarre. On se laissera séduire par ces formes minérales accentuées\, cette érosion visible et ces grands espaces désertiques à quelques kilomètres des Pyrénées\, coté espagnol. Après 4 jours passés à dessiner le désert et les petits ermitages alentours\, nous passerons par Olite\, pour s’imprégner de l’art Roman espagnol et admirer le fameux chateau\, puis nous rejoindrons Saint Jean Pied de Port en passant par le col de Roncevaux\, pour y passer nos deux dernières nuits. \nStage : 380 euros la semaine de 6 jours et 20 euros d’adhésion par virement ou chèque à l’ordre de Terre de Peintres.\n L’hébergement à l’hotel dans la petite ville d’Arguedas puis à Saint Jean Pied de Port\, sur le chemin de Saint jacques.  \nArrivée le dimanche 11 octobre après 17h  \nDépart le dimanche 18 octobre après le petit déjeuner. \nLe stage se déroule du lundi 12 octobre à 9h au samedi 17 octobre à 18h.
URL:https://terredepeintres.fr/agenda/carnet-de-voyage-dans-le-desert-des-bardenas-en-navarre-du-11-au-18-octobre-2026-complet/
LOCATION:Arguedas (Espagne ) et saint jean Pied de Port
ATTACH;FMTTYPE=image/jpeg:https://terredepeintres.fr/wp-content/uploads/2026/04/bardenas-2e-parking-1.jpg
END:VEVENT
END:VCALENDAR